BEGIN:VCALENDAR
VERSION:2.0
PRODID:-//wp-events-plugin.com//7.2.3.1//EN
TZID:America/Chicago
X-WR-TIMEZONE:America/Chicago
BEGIN:VEVENT
UID:72@matdogs.com
DTSTART;TZID=America/Chicago:20200201T073000
DTEND;TZID=America/Chicago:20200201T130000
DTSTAMP:20191223T055328Z
URL:https://www.matdogs.com/events/germantown/
SUMMARY:Germantown Hornets Youth Wrestling Tournament Feb 1
DESCRIPTION:Click here for flyer\nClick here to register on trackwrestling\
 n\nWill be held in the New Field House\nCost: $20\nNo weigh-ins\, honor sy
 stem\nUSA card required - must show at check-in\nCheck-in 7:30 - 8:30am\nW
 restling to start at 9am\ndog tag medals\, champion&nbsp\;t-shirt&nbsp\;\n
 \n$3&nbsp\;spectator fee (18 and over)\nConcessions available all day\n
ATTACH;FMTTYPE=image/jpeg:https://www.matdogs.com/wp-content/uploads/2016/
 12/germantownhornets.jpg
LOCATION:Germantown High School\, W180 N11501 River Lane\, Germantown\, WI\
 , United States
GEO:43.2246734;-88.13525010000001
X-APPLE-STRUCTURED-LOCATION;VALUE=URI;X-ADDRESS=W180 N11501 River Lane\, Ge
 rmantown\, WI\, United States;X-APPLE-RADIUS=100;X-TITLE=Germantown High S
 chool:geo:43.2246734,-88.13525010000001
END:VEVENT
BEGIN:VTIMEZONE
TZID:America/Chicago
X-LIC-LOCATION:America/Chicago
BEGIN:STANDARD
DTSTART:20191103T010000
TZOFFSETFROM:-0500
TZOFFSETTO:-0600
TZNAME:CST
END:STANDARD
END:VTIMEZONE
END:VCALENDAR